BEGIN:VCALENDAR
PRODID:-//SMW Project//Semantic Result Formats
VERSION:2.0
METHOD:PUBLISH
X-WR-CALNAME:Asian Canadian Wiki
X-WR-CALDESC:
BEGIN:VEVENT
SUMMARY:Chinese Garden of the Montreal Botanical Garden
URL:https://asiancanadianwiki.org/w/Chinese_Garden_of_the_Montreal_Botanical_Garden
UID:https://asiancanadianwiki.org/w/Chinese_Garden_of_the_Montreal_Botanical_Garden
DTSTART:20100807
DTEND:20101108
LOCATION:Montreal
DTSTAMP:20110915T003543
SEQUENCE:11831
END:VEVENT
BEGIN:VEVENT
SUMMARY:Cine Asie
URL:https://asiancanadianwiki.org/w/Cine_Asie
UID:https://asiancanadianwiki.org/w/Cine_Asie
LOCATION:Montreal
DTSTAMP:20110105T210205
SEQUENCE:11670
END:VEVENT
BEGIN:VEVENT
SUMMARY:FENG SHUI SOCIETY AUTUMN CONFERENCE
URL:https://asiancanadianwiki.org/w/FENG_SHUI_SOCIETY_AUTUMN_CONFERENCE
UID:https://asiancanadianwiki.org/w/FENG_SHUI_SOCIETY_AUTUMN_CONFERENCE
LOCATION:London UK
DTSTAMP:20111108T061817
SEQUENCE:11843
END:VEVENT
BEGIN:VEVENT
SUMMARY:Festival Asian Dance & Music
URL:https://asiancanadianwiki.org/w/Festival_Asian_Dance_%26_Music
UID:https://asiancanadianwiki.org/w/Festival_Asian_Dance_%26_Music
DTSTART:20100807
DTEND:20101109
LOCATION:Chinese Garden of the Montreal Botanical Garden
DTSTAMP:20100815T152913
SEQUENCE:10390
END:VEVENT
BEGIN:VEVENT
SUMMARY:Four Pillars Workshop hosted by Jerry King
URL:https://asiancanadianwiki.org/w/Four_Pillars_Workshop_hosted_by_Jerry_King
UID:https://asiancanadianwiki.org/w/Four_Pillars_Workshop_hosted_by_Jerry_King
DTSTART:20100927
DTEND:20100930
LOCATION:Melbourne
DTSTAMP:20100801T214354
SEQUENCE:9305
END:VEVENT
BEGIN:VEVENT
SUMMARY:Http://www.apsaratheatrecompany.com/
URL:https://asiancanadianwiki.org/w/Http://www.apsaratheatrecompany.com/
UID:https://asiancanadianwiki.org/w/Http://www.apsaratheatrecompany.com/
DTSTART:20101109
DTEND:20101110
LOCATION:Maison de la culture Notre-Dame-de-Grace  3755 Rue Botrel\,  Montreal\, QC
DTSTAMP:20100916T170317
SEQUENCE:11045
END:VEVENT
BEGIN:VEVENT
SUMMARY:Indian Dance Intensive Workshop
URL:https://asiancanadianwiki.org/w/Indian_Dance_Intensive_Workshop
UID:https://asiancanadianwiki.org/w/Indian_Dance_Intensive_Workshop
DTSTART:20100710
DTEND:20100712
LOCATION:4557 St-Laurent Blvd\, Montréal
DTSTAMP:20100601T215040
SEQUENCE:233
END:VEVENT
BEGIN:VEVENT
SUMMARY:International Feng Shui Convention
URL:https://asiancanadianwiki.org/w/International_Feng_Shui_Convention
UID:https://asiancanadianwiki.org/w/International_Feng_Shui_Convention
DTSTART:20100925
DTEND:20100927
LOCATION:Melbourne
DTSTAMP:20100801T213712
SEQUENCE:9297
END:VEVENT
BEGIN:VEVENT
SUMMARY:July 7 Workshops and Concert
URL:https://asiancanadianwiki.org/w/July_7_Workshops_and_Concert
UID:https://asiancanadianwiki.org/w/July_7_Workshops_and_Concert
LOCATION:Toronto
DTSTAMP:20120530T173014
SEQUENCE:12409
END:VEVENT
BEGIN:VEVENT
SUMMARY:Li Ka-shing
URL:https://asiancanadianwiki.org/w/Li_Ka-shing
UID:https://asiancanadianwiki.org/w/Li_Ka-shing
DTSTART:20100908
DTEND:20110110
LOCATION:Toronto
DTSTAMP:20100809T152612
SEQUENCE:9701
END:VEVENT
BEGIN:VEVENT
SUMMARY:May Program 2011
URL:https://asiancanadianwiki.org/w/May_Program_2011
UID:https://asiancanadianwiki.org/w/May_Program_2011
LOCATION:465\, Mont-Royal Avenue East
DTSTAMP:20110418T184402
SEQUENCE:11709
END:VEVENT
BEGIN:VEVENT
SUMMARY:National Asian Heritage Symposium 2010
URL:https://asiancanadianwiki.org/w/National_Asian_Heritage_Symposium_2010
UID:https://asiancanadianwiki.org/w/National_Asian_Heritage_Symposium_2010
DTSTART:20100917
DTEND:20100920
LOCATION:Montreal
DTSTAMP:20171006T234121
SEQUENCE:18260
END:VEVENT
BEGIN:VEVENT
SUMMARY:Taiko Stories: Music\, Activism\, Identity
URL:https://asiancanadianwiki.org/w/Taiko_Stories:_Music,_Activism,_Identity
UID:https://asiancanadianwiki.org/w/Taiko_Stories:_Music,_Activism,_Identity
LOCATION:Toronto
DTSTAMP:20120530T171835
SEQUENCE:12407
END:VEVENT
BEGIN:VEVENT
SUMMARY:Www.apsaratheatrecompany.com
URL:https://asiancanadianwiki.org/w/Www.apsaratheatrecompany.com
UID:https://asiancanadianwiki.org/w/Www.apsaratheatrecompany.com
DTSTART:20101109
DTEND:20101110
LOCATION:Maison de la culture Notre-Dame-de-Grace  3755 Rue Botrel\,  Montreal\, QC
DTSTAMP:20100916T163715
SEQUENCE:11031
END:VEVENT
END:VCALENDAR
